BEGIN:VCALENDAR
VERSION:2.0
PRODID:-//Icarus Medical - ECPv6.15.20//NONSGML v1.0//EN
CALSCALE:GREGORIAN
METHOD:PUBLISH
X-WR-CALNAME:Icarus Medical
X-ORIGINAL-URL:https://icarusmedical.com
X-WR-CALDESC:Events for Icarus Medical
REFRESH-INTERVAL;VALUE=DURATION:PT1H
X-Robots-Tag:noindex
X-PUBLISHED-TTL:PT1H
BEGIN:VTIMEZONE
TZID:America/New_York
BEGIN:DAYLIGHT
TZOFFSETFROM:-0500
TZOFFSETTO:-0400
TZNAME:EDT
DTSTART:20250309T070000
END:DAYLIGHT
BEGIN:STANDARD
TZOFFSETFROM:-0400
TZOFFSETTO:-0500
TZNAME:EST
DTSTART:20251102T060000
END:STANDARD
BEGIN:DAYLIGHT
TZOFFSETFROM:-0500
TZOFFSETTO:-0400
TZNAME:EDT
DTSTART:20260308T070000
END:DAYLIGHT
BEGIN:STANDARD
TZOFFSETFROM:-0400
TZOFFSETTO:-0500
TZNAME:EST
DTSTART:20261101T060000
END:STANDARD
BEGIN:DAYLIGHT
TZOFFSETFROM:-0500
TZOFFSETTO:-0400
TZNAME:EDT
DTSTART:20270314T070000
END:DAYLIGHT
BEGIN:STANDARD
TZOFFSETFROM:-0400
TZOFFSETTO:-0500
TZNAME:EST
DTSTART:20271107T060000
END:STANDARD
END:VTIMEZONE
BEGIN:VEVENT
DTSTART;TZID=America/New_York:20260302T000000
DTEND;TZID=America/New_York:20260306T000000
DTSTAMP:20260425T074517
CREATED:20260227T180620Z
LAST-MODIFIED:20260331T195035Z
UID:10000001-1772409600-1772755200@icarusmedical.com
SUMMARY:AAOS Annual Meeting
DESCRIPTION:The AAOS Annual Meeting is the premier global event for orthopaedic surgeons\, bringing together thousands of clinicians\, researchers\, and industry leaders to explore the latest innovations\, education\, and technology shaping the future of orthopaedic care. Attendees participate in expert led sessions\, hands on learning\, and one of the largest exhibit halls in the world.\nEvent: International Sports Medicine Fellows Conference (ISMF)
URL:https://icarusmedical.com/event/aaos-annual-meeting/
LOCATION:New Orleans\, LA\, New Orleans\, LA\, United States
CATEGORIES:In Person
ATTACH;FMTTYPE=image/webp:https://icarusmedical.com/wp-content/uploads/2026/02/aaos-logo.webp
END:VEVENT
END:VCALENDAR