BEGIN:VCALENDAR
VERSION:2.0
PRODID:-//Icarus Medical - ECPv6.15.20//NONSGML v1.0//EN
CALSCALE:GREGORIAN
METHOD:PUBLISH
X-WR-CALNAME:Icarus Medical
X-ORIGINAL-URL:https://icarusmedical.com
X-WR-CALDESC:Events for Icarus Medical
REFRESH-INTERVAL;VALUE=DURATION:PT1H
X-Robots-Tag:noindex
X-PUBLISHED-TTL:PT1H
BEGIN:VTIMEZONE
TZID:America/New_York
BEGIN:DAYLIGHT
TZOFFSETFROM:-0500
TZOFFSETTO:-0400
TZNAME:EDT
DTSTART:20250309T070000
END:DAYLIGHT
BEGIN:STANDARD
TZOFFSETFROM:-0400
TZOFFSETTO:-0500
TZNAME:EST
DTSTART:20251102T060000
END:STANDARD
BEGIN:DAYLIGHT
TZOFFSETFROM:-0500
TZOFFSETTO:-0400
TZNAME:EDT
DTSTART:20260308T070000
END:DAYLIGHT
BEGIN:STANDARD
TZOFFSETFROM:-0400
TZOFFSETTO:-0500
TZNAME:EST
DTSTART:20261101T060000
END:STANDARD
BEGIN:DAYLIGHT
TZOFFSETFROM:-0500
TZOFFSETTO:-0400
TZNAME:EDT
DTSTART:20270314T070000
END:DAYLIGHT
BEGIN:STANDARD
TZOFFSETFROM:-0400
TZOFFSETTO:-0500
TZNAME:EST
DTSTART:20271107T060000
END:STANDARD
END:VTIMEZONE
BEGIN:VEVENT
DTSTART;TZID=America/New_York:20260427T000000
DTEND;TZID=America/New_York:20260501T000000
DTSTAMP:20260419T152926
CREATED:20260227T180952Z
LAST-MODIFIED:20260331T213512Z
UID:10000003-1777248000-1777593600@icarusmedical.com
SUMMARY:SOMA Scientific Assembly
DESCRIPTION:The SOMA Scientific Assembly is the largest gathering of special operations medical providers in the world\, bringing together military and civilian clinicians\, researchers\, and industry partners to share training\, technology\, and clinical advancements in tactical and deployed medicine.
URL:https://icarusmedical.com/event/soma-scientific-assembly/
LOCATION:Raleigh\, NC\, Raleigh\, NC\, United States
CATEGORIES:In Person
ATTACH;FMTTYPE=image/png:https://icarusmedical.com/wp-content/uploads/2026/02/soma-logo-white.webp
END:VEVENT
BEGIN:VEVENT
DTSTART;TZID=America/New_York:20260514T000000
DTEND;TZID=America/New_York:20260516T000000
DTSTAMP:20260419T152926
CREATED:20260227T181225Z
LAST-MODIFIED:20260331T213549Z
UID:10000005-1778716800-1778889600@icarusmedical.com
SUMMARY:AANA Annual Meeting
DESCRIPTION:The AANA Annual Meeting brings together orthopaedic surgeons specializing in arthroscopy and minimally invasive surgery to explore the latest surgical techniques\, technology\, and clinical research. The conference features hands on education\, expert led sessions\, and an exhibit hall highlighting innovations in sports medicine and joint preservation.
URL:https://icarusmedical.com/event/aana-annual-meeting/
LOCATION:Phoenix\, AZ\, Phoenix\, AZ\, United States
CATEGORIES:In Person
ATTACH;FMTTYPE=image/webp:https://icarusmedical.com/wp-content/uploads/2026/02/aana-2026-logo.webp
END:VEVENT
BEGIN:VEVENT
DTSTART;TZID=America/New_York:20260708T000000
DTEND;TZID=America/New_York:20260711T000000
DTSTAMP:20260419T152926
CREATED:20260227T181106Z
LAST-MODIFIED:20260331T213557Z
UID:10000004-1783468800-1783728000@icarusmedical.com
SUMMARY:AOSSM Annual Meeting
DESCRIPTION:The AOSSM Annual Meeting is the premier orthopaedic sports medicine conference\, bringing together surgeons\, physicians\, and industry leaders to explore the latest research\, surgical techniques\, and technologies for treating sports related injuries. The event features advanced education\, networking\, and one of the largest exhibit halls dedicated to sports medicine innovation.
URL:https://icarusmedical.com/event/aossm-annual-meeting/
LOCATION:Seattle\, WA\, Seattle\, WA\, United States
CATEGORIES:In Person
ATTACH;FMTTYPE=image/webp:https://icarusmedical.com/wp-content/uploads/2026/02/aossm-logo-v2.webp
END:VEVENT
END:VCALENDAR